BEGIN:VCALENDAR
VERSION:2.0
PRODID:-//MC Frankenjura - ECPv5.9.0//NONSGML v1.0//EN
CALSCALE:GREGORIAN
METHOD:PUBLISH
X-WR-CALNAME:MC Frankenjura
X-ORIGINAL-URL:https://mc-frankenjura.de
X-WR-CALDESC:Veranstaltungen für MC Frankenjura
BEGIN:VTIMEZONE
TZID:Europe/Berlin
BEGIN:DAYLIGHT
TZOFFSETFROM:+0100
TZOFFSETTO:+0200
TZNAME:CEST
DTSTART:20220327T010000
END:DAYLIGHT
BEGIN:STANDARD
TZOFFSETFROM:+0200
TZOFFSETTO:+0100
TZNAME:CET
DTSTART:20221030T010000
END:STANDARD
END:VTIMEZONE
BEGIN:VEVENT
DTSTART;TZID=Europe/Berlin:20220304T190000
DTEND;TZID=Europe/Berlin:20220304T230000
DTSTAMP:20260420T151911
CREATED:20210927T103854Z
LAST-MODIFIED:20220117T114547Z
UID:12763-1646420400-1646434800@mc-frankenjura.de
SUMMARY:Jahreshauptversammlung 2022
DESCRIPTION:Einladung mit Tagesordnung folgt per Mail
URL:https://mc-frankenjura.de/veranstaltung/jahreshauptversammlung-2022/
END:VEVENT
END:VCALENDAR