BEGIN:VCALENDAR
VERSION:2.0
PRODID:-//MC Frankenjura - ECPv5.9.0//NONSGML v1.0//EN
CALSCALE:GREGORIAN
METHOD:PUBLISH
X-WR-CALNAME:MC Frankenjura
X-ORIGINAL-URL:https://mc-frankenjura.de
X-WR-CALDESC:Veranstaltungen für MC Frankenjura
BEGIN:VTIMEZONE
TZID:Europe/Berlin
BEGIN:DAYLIGHT
TZOFFSETFROM:+0100
TZOFFSETTO:+0200
TZNAME:CEST
DTSTART:20210328T010000
END:DAYLIGHT
BEGIN:STANDARD
TZOFFSETFROM:+0200
TZOFFSETTO:+0100
TZNAME:CET
DTSTART:20211031T010000
END:STANDARD
END:VTIMEZONE
BEGIN:VEVENT
DTSTART;TZID=Europe/Berlin:20211009T090000
DTEND;TZID=Europe/Berlin:20211009T180000
DTSTAMP:20260423T194349
CREATED:20210927T103628Z
LAST-MODIFIED:20210927T103628Z
UID:12759-1633770000-1633802400@mc-frankenjura.de
SUMMARY:MCF MX2
DESCRIPTION:9-12 Uhr Training \n12-14 Uhr Mittagspause \n14-18 Uhr Wertungsläufe
URL:https://mc-frankenjura.de/veranstaltung/mcf-mx2/
END:VEVENT
END:VCALENDAR